BEGIN:VCALENDAR
VERSION:2.0
PRODID:-//wp-events-plugin.com//7.2.3.1//EN
TZID:America/Chicago
X-WR-TIMEZONE:America/Chicago
BEGIN:VEVENT
UID:865@dapa.org
DTSTART;TZID=America/Chicago:20200919T083000
DTEND;TZID=America/Chicago:20200919T160000
DTSTAMP:20200530T190010Z
URL:https://www.dapa.org/events/psn-2020/
SUMMARY:PSN 2020
DESCRIPTION:
LOCATION:Cavanaugh Flight Museum\, 4572 Claire Chennault\, Addison\, TX\, 7
 5001\, United States
GEO:32.9725047;-96.83485610000002
X-APPLE-STRUCTURED-LOCATION;VALUE=URI;X-ADDRESS=4572 Claire Chennault\, Add
 ison\, TX\, 75001\, United States;X-APPLE-RADIUS=100;X-TITLE=Cavanaugh Fli
 ght Museum:geo:32.9725047,-96.83485610000002
END:VEVENT
BEGIN:VTIMEZONE
TZID:America/Chicago
X-LIC-LOCATION:America/Chicago
BEGIN:DAYLIGHT
DTSTART:20200308T030000
TZOFFSETFROM:-0600
TZOFFSETTO:-0500
TZNAME:CDT
END:DAYLIGHT
END:VTIMEZONE
END:VCALENDAR